BEGIN:VCALENDAR
VERSION:2.0
PRODID:-//MRW Financial - ECPv6.15.20//NONSGML v1.0//EN
CALSCALE:GREGORIAN
METHOD:PUBLISH
X-WR-CALNAME:MRW Financial
X-ORIGINAL-URL:https://www.mrwfinancial.com
X-WR-CALDESC:Events for MRW Financial
REFRESH-INTERVAL;VALUE=DURATION:PT1H
X-Robots-Tag:noindex
X-PUBLISHED-TTL:PT1H
BEGIN:VTIMEZONE
TZID:America/Denver
BEGIN:DAYLIGHT
TZOFFSETFROM:-0700
TZOFFSETTO:-0600
TZNAME:MDT
DTSTART:20250309T090000
END:DAYLIGHT
BEGIN:STANDARD
TZOFFSETFROM:-0600
TZOFFSETTO:-0700
TZNAME:MST
DTSTART:20251102T080000
END:STANDARD
BEGIN:DAYLIGHT
TZOFFSETFROM:-0700
TZOFFSETTO:-0600
TZNAME:MDT
DTSTART:20260308T090000
END:DAYLIGHT
BEGIN:STANDARD
TZOFFSETFROM:-0600
TZOFFSETTO:-0700
TZNAME:MST
DTSTART:20261101T080000
END:STANDARD
BEGIN:DAYLIGHT
TZOFFSETFROM:-0700
TZOFFSETTO:-0600
TZNAME:MDT
DTSTART:20270314T090000
END:DAYLIGHT
BEGIN:STANDARD
TZOFFSETFROM:-0600
TZOFFSETTO:-0700
TZNAME:MST
DTSTART:20271107T080000
END:STANDARD
END:VTIMEZONE
BEGIN:VEVENT
DTSTART;TZID=America/Denver:20260209T133000
DTEND;TZID=America/Denver:20260209T140000
DTSTAMP:20260421T103645
CREATED:20260209T154608Z
LAST-MODIFIED:20260209T154620Z
UID:11897-1770643800-1770645600@www.mrwfinancial.com
SUMMARY:Demystifying IUL Part 1: IUL Mechanics
DESCRIPTION:Confused about how indexed universal life (IUL) insurance really works? In this first session of our Demystifying IUL series\, Tom will break down IUL mechanics and explain the basic functionality of IUL products — helping you build a strong foundation for understanding IUL. \nPresenter: Tom Martin\, SR. Life Product & Competition Analyst
URL:https://www.mrwfinancial.com/event/demystifying-iul-part-1-iul-mechanics/
END:VEVENT
END:VCALENDAR