BEGIN:VCALENDAR
VERSION:2.0
PRODID:-//MRW Financial - ECPv6.15.20//NONSGML v1.0//EN
CALSCALE:GREGORIAN
METHOD:PUBLISH
X-WR-CALNAME:MRW Financial
X-ORIGINAL-URL:https://www.mrwfinancial.com
X-WR-CALDESC:Events for MRW Financial
REFRESH-INTERVAL;VALUE=DURATION:PT1H
X-Robots-Tag:noindex
X-PUBLISHED-TTL:PT1H
BEGIN:VTIMEZONE
TZID:America/New_York
BEGIN:DAYLIGHT
TZOFFSETFROM:-0500
TZOFFSETTO:-0400
TZNAME:EDT
DTSTART:20240310T070000
END:DAYLIGHT
BEGIN:STANDARD
TZOFFSETFROM:-0400
TZOFFSETTO:-0500
TZNAME:EST
DTSTART:20241103T060000
END:STANDARD
BEGIN:DAYLIGHT
TZOFFSETFROM:-0500
TZOFFSETTO:-0400
TZNAME:EDT
DTSTART:20250309T070000
END:DAYLIGHT
BEGIN:STANDARD
TZOFFSETFROM:-0400
TZOFFSETTO:-0500
TZNAME:EST
DTSTART:20251102T060000
END:STANDARD
BEGIN:DAYLIGHT
TZOFFSETFROM:-0500
TZOFFSETTO:-0400
TZNAME:EDT
DTSTART:20260308T070000
END:DAYLIGHT
BEGIN:STANDARD
TZOFFSETFROM:-0400
TZOFFSETTO:-0500
TZNAME:EST
DTSTART:20261101T060000
END:STANDARD
END:VTIMEZONE
BEGIN:VEVENT
DTSTART;TZID=America/New_York:20250417T140000
DTEND;TZID=America/New_York:20250417T150000
DTSTAMP:20260422T124806
CREATED:20250408T131530Z
LAST-MODIFIED:20250408T131530Z
UID:11070-1744898400-1744902000@www.mrwfinancial.com
SUMMARY:More opportunities in The Great Reprieve
DESCRIPTION:The qualified business income (QBI) deduction may be extended in the current administration. Small business owners should maximize this opportunity while preparing for future changes. Join us as we discuss ways to capitalize on the current QBI deduction through executive bonus\, split dollar and key person strategies.
URL:https://www.mrwfinancial.com/event/more-opportunities-in-the-great-reprieve/
END:VEVENT
END:VCALENDAR